BEGIN:VCALENDAR
VERSION:2.0
PRODID:-//EASE Lab - ECPv6.15.20//NONSGML v1.0//EN
CALSCALE:GREGORIAN
METHOD:PUBLISH
X-ORIGINAL-URL:https://easelab.ca
X-WR-CALDESC:Events for EASE Lab
REFRESH-INTERVAL;VALUE=DURATION:PT1H
X-Robots-Tag:noindex
X-PUBLISHED-TTL:PT1H
BEGIN:VTIMEZONE
TZID:UTC
BEGIN:STANDARD
TZOFFSETFROM:+0000
TZOFFSETTO:+0000
TZNAME:UTC
DTSTART:20240101T000000
END:STANDARD
END:VTIMEZONE
BEGIN:VEVENT
DTSTART;TZID=UTC:20250224T150000
DTEND;TZID=UTC:20250224T170000
DTSTAMP:20260421T075850
CREATED:20241108T205700Z
LAST-MODIFIED:20250224T142733Z
UID:269-1740409200-1740416400@easelab.ca
SUMMARY:EASE research meeting
DESCRIPTION:Join us for our monthly research meeting (plus snacks and social time)\, with presentations by Alex Djedovic and Shebonti Khandaker. \nLocation: Wilson Hall\, Room 2053 and Online (Register here for Zoom link) \nAlex Djedovic\, PhD\, is a philosopher working at the intersection of biology\, cognitive science\, and social issues. Focused on how the sciences of life and the sciences of mind inform (and sometimes mislead) each other\, Alex writes on embodied cognition and theories of living organisms. An interdisciplinary scholar\, he is also interested in how cognitive science influences society\, non-Western approaches to cognition and their intersection with psychological and social health\, the role of theory in making a better world\, and the intersection of politics\, history\, and science. \nAlex teaches the popular BPMH course “Buddhism and Psychology.” In this talk\, he reflects on lessons learned and the state of the Buddhism-psychology dialogue as he has come to see it. He also discusses two areas of research interest that have developed from teaching this course: (1) the philosophy of attention\, and (2) the search for sustainably cosmopolitan dialogue ethics. \nShebonti Khandaker is a 4th-year undergraduate in Cognitive Science\, History\, and Semiotics. Her work explores the relationship between technology\, cognition\, and selfhood. She recently completed her undergraduate thesis with Prof. Mark Miller\, titled “Extended Minds in the Attention Economy”\, and has previously published on digital self-making in the essay “Social Media and Semiosis: Constructing the Self with Signs Online”. She is an awardee of the 2023 UofT Excellence Award for her work on Prof. Ivan Kalmar’s research project “Illiberal Discourses at the Periphery: Eastern and Southern Europe”\, and the 2022 Meyer Greenstein Award for Writing Excellence for her publication “Tracing the Colonial Roots of Hijra Treatment in Bangladesh”. \nShebonti’s presentation will explore the psychological and political implications of the smartphone as a cognitive extension tool\, in the context of agency\, selfhood\, and attention/reward dynamics in predictive brains.
URL:https://easelab.ca/event/february-research-meeting/
END:VEVENT
END:VCALENDAR