BEGIN:VCALENDAR
VERSION:2.0
PRODID:-//EASE Lab - ECPv6.15.20//NONSGML v1.0//EN
CALSCALE:GREGORIAN
METHOD:PUBLISH
X-ORIGINAL-URL:https://easelab.ca
X-WR-CALDESC:Events for EASE Lab
REFRESH-INTERVAL;VALUE=DURATION:PT1H
X-Robots-Tag:noindex
X-PUBLISHED-TTL:PT1H
BEGIN:VTIMEZONE
TZID:UTC
BEGIN:STANDARD
TZOFFSETFROM:+0000
TZOFFSETTO:+0000
TZNAME:UTC
DTSTART:20250101T000000
END:STANDARD
END:VTIMEZONE
BEGIN:VEVENT
DTSTART;TZID=UTC:20260120T150000
DTEND;TZID=UTC:20260120T170000
DTSTAMP:20260421T084432
CREATED:20260112T171813Z
LAST-MODIFIED:20260112T172352Z
UID:589-1768921200-1768928400@easelab.ca
SUMMARY:EASE Lab Monthly Meeting
DESCRIPTION:Join us in 2026 for our EASE Lab Monthly Meetings! These are open to all U of T faculty\, students\, and staff. \nLocation: New College\, Wilson Hall\, Room 2007D – 40 Wilcocks Street. Enter the front sliding doors\, up the stairs\, and curve right around the staircase. \nOr on Zoom: https://utoronto.zoom.us/j/85072398524 (Meeting ID: 850 7239 8524\, Passcode: 101210) \nThis month’s presentation: \nFor January’s meeting\, we have two special guests! Geshe Sonam Ngodrup will tell us about the four close placements of mindfulness (dran pa nyer bzhag bzhi/ smṛtyupasthāna)\, a core meditation practice within most of the world’s Buddhist traditions. In these practices\, one can develop insight by developing mindfulness of the body\, feelings\, mind\, and phenomena. Geshe Sonam will begin with gentle awareness exercises to develop our concentration\, and then help us explore the four close placements through explanation and guided meditation. \n \nAt the age of 13\, Geshe Sonam Ngodrup left Kham\, Tibet for India to join Sera Jey monastery. After graduating as a Geshe Lharampa (the most distinguished of the four geshe degrees) at the top of his class\, Geshe-la began teaching. As one of the monastery’s most popular scripture teachers (dpe khrid dge rgan)\, Geshe-la spent a decade guiding over a hundred monastic students through the key scriptures of the tradition. From 2010 to 2018\, Geshe taught in Europe\, and since 2019\, he has been a resident teacher at Lama Yeshe Ling in Burlington\, Ontario. \n  \nRory Tasker (Venerable Khedrup) has been a Buddhist monk since 2004 and graduated from the Lotsawa Rinchen Zangpo Translator Program in Dharamsala\, India\, in 2010. He has served Geshe Sonam and several other respected Himalayan teachers as their Tibetan-English interpreter since 2011. He completed an MA in Buddhist studies at McMaster in 2019 and had his PhD thesis accepted at the University of Toronto\, OISE in 2025. His research focused on the experiences and pedagogies of Tibetan and Himalayan teachers of Buddhism in North America.
URL:https://easelab.ca/event/january-2026/
LOCATION:40 Willcocks St\, Toronto\, ON M5S 1C6\, 40 Willcocks St\, Toronto\, ON\, M5S 1C6\, Canada
END:VEVENT
END:VCALENDAR